BEGIN:VCALENDAR
VERSION:2.0
PRODID:-//wp-events-plugin.com//7.2.1//EN
BEGIN:VEVENT
UID:103@capacitationcenter.com
DTSTART;TZID=America/Puerto_Rico:20251120T080000
DTEND;TZID=America/Puerto_Rico:20251120T170000
DTSTAMP:20251031T200159Z
URL:https://capacitationcenter.com/eventos/pals-2/
SUMMARY:PALS
DESCRIPTION:
END:VEVENT
BEGIN:VTIMEZONE
TZID:America/Puerto_Rico
X-LIC-LOCATION:America/Puerto_Rico
BEGIN:STANDARD
DTSTART:20241120T080000
TZOFFSETFROM:-0400
TZOFFSETTO:-0400
TZNAME:AST
END:STANDARD
END:VTIMEZONE
END:VCALENDAR